BEGIN:VCALENDAR
VERSION:2.0
PRODID:icalendar-ruby
CALSCALE:GREGORIAN
METHOD:PUBLISH
BEGIN:VEVENT
DTSTAMP:20260421T064245Z
UID:event-17286@stampinup.net
DTSTART;TZID=America/New_York:20200123T180000
DTEND;TZID=America/New_York:20200123T200000
CREATED:20191008T232626
DESCRIPTION:Every fourth Thursday of each month (except November and Decemb
 er) we will meet to assemble our Paper Pumpkin Kits and munch on pumpkin t
 hemed treats!\n\nBring your Paper Pumpkin Kit\, clear acrylic blocks\, pap
 er snips\, adhesive\, and a bone folder. You can also bring additional mat
 erials to create alternative projects (this is optional).\n\nThis is a fre
 e club for my Paper Pumpkin Subscribers. Please RSVP by the 3rd Thursday o
 f the month\, so I can prepare plenty of refreshments.\n\nIf you are a Pap
 er Pumpkin subscriber but not local\, you can still come to the meetings v
 ia FaceTime\, Skype\, or Facebook Live. Please let me know if you are atte
 nding virtually\, so I can prepare accordingly.\n\nIf you are not a Paper 
 Pumpkin Subscriber\, I highly recommend joining. Each month Stampin' Up! s
 ends a kit with all of the supplies you need (minus scissors) to create fa
 bulous projects! It could be cards\, banners\, wreaths\, shaker cards\, an
 d more! It is like getting a surprise every month. Check out my online sto
 re for more information.\n\nThe 2020 Paper Pumpkin Kit Club Meeting Dates 
 are:\nJanuary 23rd\nFebruary 27th\nMarch 26th\nApril 23rd\nMay 28th\nJune 
 25th\nJuly 23rd\nAugust 27th\nSeptember 24th\nOctober 22nd\nNo Meeting in 
 November\nDecember 3th (Make Up Date for November)\nDecember 31st (Make Up
  Date for December 24th)\n\nPlease RSVP by the 3rd Thursday of the month\,
  so I can prepare plenty of refreshments. RSVP by text\, phone\, or email.
  If you have food allergies or restrictions\, please let me know before th
 e Paper Pumpkin Party\, so that I can make the proper accomodations. I loo
 k foward to stamping with you!\n\nEvent link: https://stampinup.net/crm/ev
 ents/17286
LAST-MODIFIED:20191216T141529
ORGANIZER;CN=Beth Arnold:mailto:craftwithbeth@gmail.com
SUMMARY:Paper Pumpkin Party!!
URL;VALUE=URI:https://stampinup.net/crm/events/17286
RRULE:FREQ=MONTHLY;UNTIL=20201101T000000Z;BYDAY=4TH
END:VEVENT
END:VCALENDAR
