BEGIN:VCALENDAR
VERSION:2.0
PRODID:icalendar-ruby
CALSCALE:GREGORIAN
METHOD:PUBLISH
BEGIN:VEVENT
DTSTAMP:20260421T054706Z
UID:event-17284@stampinup.net
DTSTART;TZID=America/New_York:20191205T180000
DTEND;TZID=America/New_York:20191205T200000
CREATED:20191008T231745
DESCRIPTION:Every fourth Thursday of each month (except November and Decemb
 er) we will meet to assemble our Paper Pumpkin Kits and munch on pumpkin t
 hemed treats!\n\nBring your Paper Pumpkin Kit\, clear acrylic blocks\, pap
 er snips\, adhesive\, and a bone folder. You can also bring additional mat
 erials to create alternative projects (this is optional).\n\nThis is a fre
 e club for my Paper Pumpkin Subscribers. Please RSVP by the 3rd Saturday o
 f the month\, so I can prepare plenty of refreshments.\n\nIf you are a Pap
 er Pumpkin subscriber but not local\, you can still come to the meetings v
 ia FaceTime\, Skype\, or Facebook Live. Please let me know if you are atte
 nding virtually\, so I can prepare accordingly.\n\nIf you are not a Paper 
 Pumpkin Subscriber\, I highly recommend joining. Each month Stampin' Up! s
 ends a kit with all of the supplies you need (minus scissors) to create fa
 bulous projects! It could be cards\, banners\, wreaths\, shaker cards\, an
 d more! It is like getting a surprise every month. Check out my online sto
 re for more information.\n\nThe 2019 Paper Pumpkin Kit Club Meeting Dates 
 are: January 24th\nFebruary 28th\nMarch 28th\nApril 25th\nMay 23th\nJune 2
 7th\nJuly 25th\nAugust 22nd\nSeptember 26th\nOctober 24th\nNo Meeting in N
 ovember\nDecember 5th (Make Up Date for November)\nJanuary 2nd (Make Up Da
 te for December)\n\nPlease RSVP by the 3rd Saturday of the month\, so I ca
 n prepare plenty of refreshments. RSVP by text\, phone\, or email. 6\n\nEv
 ent link: https://stampinup.net/crm/events/17284
LAST-MODIFIED:20191008T231745
ORGANIZER;CN=Beth Arnold:mailto:craftwithbeth@gmail.com
SUMMARY:Paper Pumkin Party!!
URL;VALUE=URI:https://stampinup.net/crm/events/17284
END:VEVENT
END:VCALENDAR
