BEGIN:VCALENDAR
VERSION:2.0
PRODID:icalendar-ruby
CALSCALE:GREGORIAN
METHOD:PUBLISH
BEGIN:VEVENT
DTSTAMP:20260420T003847Z
UID:event-172507@stampinup.net
DTSTART;TZID=Australia/Sydney:20230219T130000
DTEND;TZID=Australia/Sydney:20230219T150000
CREATED:20221114T171931
DESCRIPTION:The Purpose of the Class is to learn to create simple cards\, a
 nd have a great time creating!\nOh and don’t forget - Coffee! (or your c
 hoice of beverage).\n\nThe plan is to meet in a local Café and have a cup
 pa and make a card together (small group) to learn basic card making using
  the new Stampin’ Up! Kits Collection and have a fun\, relaxing time. Th
 ese kits come with everything you need to make the card/items inside. Some
  are basic with sentiments already printed and things pre-cut\, so no stam
 ping involved\, just put them together. Some kits have stamps and ink and
  a stamp block included so you can do a bit more stamping and creating as
  per the instructions\, or change it up a little Kit prices range from $21
  - $44*. They all come with complete instructions\, so you can make one c
 ard in the class on the day\, and then make the rest up at home. Or bring 
 it back to the next class and slowly work through your kit. Or just do one
  card as a make and take on the day. The choice is yours!\n\nClass fees va
 ry depending on the option you choose - plus the price of the Kit you are
  purchasing.\n\n$20 - Class plus the price of your kit purchased online pr
 ior to class. Allow 2 weeks for delivery of kits if ordering online\, or
 der using this link\, and book early by using the RSVP on this page. \n
 \n$20 - Class plus Kit Price. I do have some Kits available for purchase 
 on the day\, so check with me if you want to purchase one of those.\n\n$25
  - Class\, this option includes making one card from what I have availab
 le at the time.\n\nClass fee paid directly to me on the day\, Square\, Dir
 ect Deposit or Cash.\n\nAll Classes include one Beverage of your choice (
 up to $5 value).\nProduct Samples and Catalogue\, instruction on how to ma
 ke the cards.\n\nRSVP to express interest so I can send all the informati
 on to you and let you know if any places still available. Only a limited n
 umber of places available for each class.\n\nI plan to hold these once a m
 onth on a Saturday or Sunday\, other dates during the week still to be se
 t so keep your eye on the calendar\, and contact me if you would like to a
 rrange a special day with your friends.\n\nFi . . . Let's Create!\n\n*curr
 ent $AU price at time of setting up event.\n\nNote: picture and resource a
 re samples of kits available at time of creating event\, may not be availa
 ble at time of event\, check online or with me - byfihandcrafts@gmail.com
 \n \n\n\nEvent link: https://stampinup.net/crm/events/172507
LAST-MODIFIED:20230214T152114
LOCATION:Venue will be emailed/messaged\, Pyrmont
ORGANIZER;CN=Fiona Fernandez:mailto:Byfihandcrafts@gmail.com
SUMMARY:Kits Collection ‘Card and Cuppa’  - with Fiona Fernandez
URL;VALUE=URI:https://stampinup.net/crm/events/172507
END:VEVENT
END:VCALENDAR
