BEGIN:VCALENDAR
VERSION:2.0
PRODID:icalendar-ruby
CALSCALE:GREGORIAN
METHOD:PUBLISH
BEGIN:VEVENT
DTSTAMP:20260422T073713Z
UID:event-172422@stampinup.net
DTSTART;TZID=America/New_York:20221119T140000
DTEND;TZID=America/New_York:20221119T160000
CREATED:20221114T123412
DESCRIPTION:In person or by mail!\n4cards/2 each\n1 spool of Balmy Blue rib
 bon\, and a 1/2 pack of Storybook Gnome DSP is included in your kit. \n\n
 Event link: https://stampinup.net/crm/events/172422
LAST-MODIFIED:20221114T123412
LOCATION:My House
ORGANIZER;CN=Kimberly Gora:mailto:kagora08@aol.com
SUMMARY:Storybook Gnomes Class
URL;VALUE=URI:https://stampinup.net/crm/events/172422
END:VEVENT
END:VCALENDAR
