BEGIN:VCALENDAR
VERSION:2.0
PRODID:icalendar-ruby
CALSCALE:GREGORIAN
METHOD:PUBLISH
BEGIN:VEVENT
DTSTAMP:20260424T204546Z
UID:event-172142@stampinup.net
DTSTART;TZID=America/Denver:20230326T140000
DTEND;TZID=America/Denver:20230326T160000
CREATED:20221109T110556
DESCRIPTION:Hostess:  Mary\nSwap Theme:  Baby cards\n\nEvent link: https:
 //stampinup.net/crm/events/172142
LAST-MODIFIED:20230304T201119
LOCATION:Tammy's House
ORGANIZER;CN=Tammy Fite:mailto:stampwithtammy@gmail.com
SUMMARY:Stamp Club Meeting
URL;VALUE=URI:https://stampinup.net/crm/events/172142
END:VEVENT
END:VCALENDAR
