BEGIN:VCALENDAR
VERSION:2.0
PRODID:icalendar-ruby
CALSCALE:GREGORIAN
METHOD:PUBLISH
BEGIN:VEVENT
DTSTAMP:20260425T133006Z
UID:event-171965@stampinup.net
DTSTART;TZID=America/Denver:20230124T170000
DTEND;TZID=America/Denver:20230124T180000
CREATED:20221107T100938
DESCRIPTION:\n\nEvent link: https://stampinup.net/crm/events/171965
LAST-MODIFIED:20221107T100938
ORGANIZER;CN=Toni Wygant:mailto:tkwygant@gmail.com
SUMMARY:Last day to register for February Card Class
URL;VALUE=URI:https://stampinup.net/crm/events/171965
END:VEVENT
END:VCALENDAR
