BEGIN:VCALENDAR
VERSION:2.0
PRODID:icalendar-ruby
CALSCALE:GREGORIAN
METHOD:PUBLISH
BEGIN:VEVENT
DTSTAMP:20260419T231631Z
UID:event-170983@stampinup.net
DTSTART;TZID=Australia/Sydney:20230226T140000
DTEND;TZID=Australia/Sydney:20230226T170000
CREATED:20221030T144046
DESCRIPTION:This class we'll be using By The Bay Suite collection\n\nI will
  be running the class using Zoom\, online – link and instructions emaile
 d the day before.\n\nPayment required before Kit sent out - please contact
  me to discuss.\nRegistration deadline for this class is 11th February 20
 23 so I have time to send them out in the post if needed.\n\nDon't forget
 \, when you spend over $65 with me as your demonstrator I will send you 
 a Thank you gift!\nMy Current Host Code for purchases under $250 can be fo
 und on my Specials page.\n\nOptions for Cost\n1. $30AU Class only - Use a
 ll your own products - If ordering the Collection make sure you order a fe
 w weeks in advance to get them in time. NOTE: I do use other items as well
  as the Specified Collection\, so check with me first if this option works
  for you.\n\n2. Class price plus pre cut kit $45 (in Australia only)\, $4
 0 The Busy Bees Team members \n- Includes a precut kit of the card\, pap
 ers and embellishments. Use your own stamps\, adhesives and inks.\nPostage
  extra. \n\nAll include written instructions for 3 cards/items\, pdf emai
 led.\n\nIf you can't attend the Class on the day\, you can still purchase 
 the Instructions PDF $10\, and a pre cut kit $15 separately.\nYou will n
 eed your own Stamps\, inks and adhesives.\n\nRSVP on this event to let me 
 know if you would like to join in.\n\nLet me know if you need more informa
 tion\, or any help with ordering.\nFiona . . . Let’s Create!\n\n\nEven
 t link: https://stampinup.net/crm/events/170983
LAST-MODIFIED:20230206T231339
LOCATION:Zoom Online
ORGANIZER;CN=Fiona Fernandez:mailto:Byfihandcrafts@gmail.com
SUMMARY:Card making class - Online
URL;VALUE=URI:https://stampinup.net/crm/events/170983
END:VEVENT
END:VCALENDAR
