BEGIN:VCALENDAR
VERSION:2.0
PRODID:icalendar-ruby
CALSCALE:GREGORIAN
METHOD:PUBLISH
BEGIN:VEVENT
DTSTAMP:20260422T084100Z
UID:event-1708@stampinup.net
DTSTART;TZID=America/New_York:20191115T060000
DTEND;TZID=America/New_York:20191117T230000
CREATED:20190911T115018
DESCRIPTION:I will be out of the office with limited access to email and ph
 one will attending Stampin' Up!'s OnStage training event. I look forward t
 o connecting with you upon my return. \n\nEvent link: https://stampinup.n
 et/crm/events/1708
LAST-MODIFIED:20191030T103945
LOCATION:Atlanta\, GA
ORGANIZER;CN=Lisa Curcio:mailto:orders@lisasstampstudio.com
SUMMARY:Stampin' Up!'s OnStage Event
URL;VALUE=URI:https://stampinup.net/crm/events/1708
END:VEVENT
END:VCALENDAR
