BEGIN:VCALENDAR
VERSION:2.0
PRODID:icalendar-ruby
CALSCALE:GREGORIAN
METHOD:PUBLISH
BEGIN:VEVENT
DTSTAMP:20260420T101605Z
UID:event-170708@stampinup.net
DTSTART;TZID=America/Chicago:20221106T130000
DTEND;TZID=America/Chicago:20221106T170000
CREATED:20221027T104817
DESCRIPTION:It's time to get into the holiday spirit! Taste some wine\, sam
 ple yummy meal ideas\, and shop for your friends and family!\nCome and go 
 style!\n\n***Raffle tickets can be earned by:\nRSVP's of going\nAttending\
 nInviting a Friend\nSharing the event with friends\n\nThere will be people
  representing...\nWine Shop at Home\, Epicure\, Stampin' Up!\, Chalk Coutu
 re\, Thirty-One\, Mary Kay\, Created by KK\, Norwex\, and Wild Child Duds!
 \nEach will have a prize that you can choose to put your tickets in to win
  their prize! Stay tuned for links\, teasers\, and specials!\n\nEvent link
 : https://stampinup.net/crm/events/170708
LAST-MODIFIED:20221027T104817
LOCATION:My House\, 4108 Katy Court
ORGANIZER;CN=Laura Venvertloh:mailto:laurascreativecorner2007@gmail.com
SUMMARY:Sip n' Shop 2022
URL;VALUE=URI:https://stampinup.net/crm/events/170708
END:VEVENT
END:VCALENDAR
