BEGIN:VCALENDAR
VERSION:2.0
PRODID:icalendar-ruby
CALSCALE:GREGORIAN
METHOD:PUBLISH
BEGIN:VEVENT
DTSTAMP:20260420T073444Z
UID:event-170439@stampinup.net
DTSTART;TZID=America/Chicago:20221029T220000
DTEND;TZID=America/Chicago:20221029T230000
CREATED:20221025T110632
DESCRIPTION:$25/10 cards make 2 each of 5 designs\nChoose from 10 designs\n
 \nEvent link: https://stampinup.net/crm/events/170439
LAST-MODIFIED:20221025T110632
LOCATION:The Roost
ORGANIZER;CN=Robyn Rasset:mailto:rrasset@frontier.com
SUMMARY:Christmas Card Cafe
URL;VALUE=URI:https://stampinup.net/crm/events/170439
END:VEVENT
END:VCALENDAR
