BEGIN:VCALENDAR
VERSION:2.0
PRODID:icalendar-ruby
CALSCALE:GREGORIAN
METHOD:PUBLISH
BEGIN:VEVENT
DTSTAMP:20260419T232614Z
UID:event-170404@stampinup.net
DTSTART;TZID=Australia/Sydney:20230311T100000
DTEND;TZID=Australia/Sydney:20230311T163000
CREATED:20221024T221944
DESCRIPTION:This Retreat Day is to get together and Stamp!\nI’m looking f
 orward to being in person to create together again.\n\n\nI've planned a St
 amping project for you – 4 handmade cards with a matching Gift Box! \n\n
 Lucky Door prize!\n\nFun Game!\n\nMystery card!\n\n\nThis will be held in 
 Northmead\, Sydney\, NSW from 10am to 4.30pm on Saturday 11th March 2023.\
 nThere is on street parking in Hammers Rd Northmead\, and Bus Stop short w
 alk away.\n\n\nPrice Includes:\n\n\n	One Stamp Set - you can choose from E
 den’s Garden\, Nature’s Prints\, Botanical Layers\, Decorative Borders
  or Wisteria Wishes. These sets have been chosen for suitability for the p
 roject. Some people may have these already so please discuss with me about
  other options. My samples have been made using a mixture of Wisteria Wish
 es with Decorative Borders on the Evening Evergreen card base. And Nature
 ’s Prints on the Starry Sky card base. \n	See the Event Project link be
 low for the picture.\n	All materials to make the projects eg. card\, embel
 lishments\, ribbon\, glue etc\n	Use of all my tools to make the projects o
 n the day\n	Lucky Door Prize entry\n	Tea\, coffee and juice\n\n\nBring You
 r Own Lunch – there is a kitchenette we can use with microwave.\n\nRSVP:
  All bookings must be registered and pre-paid by the RSVP date below\nUse
  this Form link to Register https://forms.gle/dtNZhHP9gzdYKzKN8\n13th Feb
 ruary 2023  - Early Bird Rate $122\n20th February 2023 final cut-off date
  - $132\n \nMax 10 People so book early - if more people reply they will 
 go on wait list\, I will contact once RSVP closes.\nRSVP to put your name 
 down and get more information as it is updated\, and use the registration 
 link to fill out the form.\n\nPayments can be made by \n\n\n	Direct Deposi
 t (my preference to save on fees)\n	PayPal\n\n\nDetails emailed once RSVP
 ’d.\n\n\nEvent link: https://stampinup.net/crm/events/170404
LAST-MODIFIED:20230207T192503
LOCATION:In person - at Northmead \, NSW\, Hammers Rd Northmead
ORGANIZER;CN=Fiona Fernandez:mailto:Byfihandcrafts@gmail.com
SUMMARY:Let's Create! -  Retreat Day
URL;VALUE=URI:https://stampinup.net/crm/events/170404
END:VEVENT
END:VCALENDAR
