BEGIN:VCALENDAR
VERSION:2.0
PRODID:icalendar-ruby
CALSCALE:GREGORIAN
METHOD:PUBLISH
BEGIN:VEVENT
DTSTAMP:20260425T003305Z
UID:event-170323@stampinup.net
DTSTART;TZID=America/Chicago:20221116T183000
DTEND;TZID=America/Chicago:20221116T203000
CREATED:20221024T104149
DESCRIPTION:We will be making 4 cards doing new technique\, fancy folds. Ma
 king specials cards\n\nBring adhesive and scissors.\n\nClass fee: $15\, th
 e class is free with a $25 order at class. \n\nSign up by November10th    
  \n\n\nEvent link: https://stampinup.net/crm/events/170323
LAST-MODIFIED:20221024T104231
LOCATION:Lisa Stamp Shoppe\, 315 325th St
ORGANIZER;CN=Lisa Bowell:mailto:lisabow@wwt.net
SUMMARY:WOW Card Class
URL;VALUE=URI:https://stampinup.net/crm/events/170323
END:VEVENT
END:VCALENDAR
