BEGIN:VCALENDAR
VERSION:2.0
PRODID:icalendar-ruby
CALSCALE:GREGORIAN
METHOD:PUBLISH
BEGIN:VEVENT
DTSTAMP:20260423T234801Z
UID:event-170261@stampinup.net
DTSTART;VALUE=DATE:20221111
DTEND;VALUE=DATE:20221111
CREATED:20221023T161102
DESCRIPTION:Thank you for your service to this country. Your bravery\, sacr
 ifice\, and strength do not go unnoticed\, and we will always be indebted 
 to you and your family for all that you have given to the country. I would
  like to thank you very much for your service! Thank you for your time\, b
 ravery\, and sacrifice for this country.\n\nEvent link: https://stampinup.
 net/crm/events/170261
LAST-MODIFIED:20221023T161102
ORGANIZER;CN=Terri Brumagim:mailto:tbrumagim@msn.com
SUMMARY:Veteran's Day
URL;VALUE=URI:https://stampinup.net/crm/events/170261
END:VEVENT
END:VCALENDAR
