BEGIN:VCALENDAR
VERSION:2.0
PRODID:icalendar-ruby
CALSCALE:GREGORIAN
METHOD:PUBLISH
BEGIN:VEVENT
DTSTAMP:20260421T133248Z
UID:event-17009@stampinup.net
DTSTART;TZID=America/Phoenix:20191024T170000
DTEND;TZID=America/Phoenix:20191024T210000
CREATED:20191007T232015
DESCRIPTION:Join us for Hostess Night. The cards for the night are on the h
 ouse if you have placed or will be placing an order of $30 or more during 
 the month of October! $3 per card if not. If you order under this months H
 ostess Code you will recieve an extra thank you gift of a product share fr
 om me. All of this is my way of thanking your for all the support! Please 
 RSVP and what time you plan to stop by between 5-9pm. The Cards are quick 
 and simple (shoebox style) Make-n-takes. \n\nOctober Hostess Code: XH63N
 ZRR\n\nEvent link: https://stampinup.net/crm/events/17009
LAST-MODIFIED:20191007T232015
LOCATION:RAGtime Design Studio\, 816 S Catalina Ave
ORGANIZER;CN=Rachel Ann Johnson:mailto:ragtimedesigns@msn.com
SUMMARY:October Hostess Night
URL;VALUE=URI:https://stampinup.net/crm/events/17009
END:VEVENT
END:VCALENDAR
