BEGIN:VCALENDAR
VERSION:2.0
PRODID:icalendar-ruby
CALSCALE:GREGORIAN
METHOD:PUBLISH
BEGIN:VEVENT
DTSTAMP:20260422T094309Z
UID:event-166631@stampinup.net
DTSTART;TZID=America/Chicago:20220926T200000
DTEND;TZID=America/Chicago:20220926T210000
CREATED:20220921T180226
DESCRIPTION:Training with my upline each week.  We go over our numbers\, t
 echniques\, sale\, marketing\, etc.  Everything to help us with our small
  business.  It is interactive sessions to help me be better at my hobbie/
 jobbie!  Pretties Team AND Notable Stampers Group interested or curious 
 about building a business are invited to participate in a weekly accountab
 ility and learning call. \n\nEvent link: https://stampinup.net/crm/events
 /166631
LAST-MODIFIED:20221122T214011
LOCATION:On-Line Check in
ORGANIZER;CN=Patience Holt:mailto:patienceholt@gmail.com
SUMMARY:Weekly Training with Upline
URL;VALUE=URI:https://stampinup.net/crm/events/166631
RRULE:FREQ=WEEKLY
END:VEVENT
END:VCALENDAR
