BEGIN:VCALENDAR
VERSION:2.0
PRODID:icalendar-ruby
CALSCALE:GREGORIAN
METHOD:PUBLISH
BEGIN:VEVENT
DTSTAMP:20260422T222724Z
UID:event-1666@stampinup.net
DTSTART;VALUE=DATE:20191204
DTEND;VALUE=DATE:20191207
CREATED:20190911T113109
DESCRIPTION:\nLooking for great ideas\, color combinations\, layouts and "h
 ow to"? My monthly card making class provides all that and more. Each mont
 h there's a color PDF tutorial with step-by-step instructions\, multiple p
 ictures for each project\, cutting dimensions and a complete supply list. 
 Additionally\, you'll receive a video to stamp right along with me from ho
 me. Whether your new to paper crafting or a seasoned stamper\, this online
  class is perfect for you! Get all the details by CLICKING HERE.\n\nEvent 
 link: https://stampinup.net/crm/events/1666
LAST-MODIFIED:20201111T144409
ORGANIZER;CN=Lisa Curcio:mailto:orders@lisasstampstudio.com
SUMMARY:Card Making Class
URL;VALUE=URI:https://stampinup.net/crm/events/1666
END:VEVENT
END:VCALENDAR
