BEGIN:VCALENDAR
VERSION:2.0
PRODID:icalendar-ruby
CALSCALE:GREGORIAN
METHOD:PUBLISH
BEGIN:VEVENT
DTSTAMP:20260424T110117Z
UID:event-166420@stampinup.net
DTSTART;VALUE=DATE:20220901
DTEND;VALUE=DATE:20220901
CREATED:20220918T174042
DESCRIPTION:Every week in the month of September we’re offering a selecti
 on of discounted products. Discounts and product selection will vary from 
 week to week. Shop the Deals\n\nEvent link: https://stampinup.net/crm/even
 ts/166420
LAST-MODIFIED:20220918T174042
ORGANIZER;CN=Tina Newberry:mailto:papercraftytimedesigns@gmail.com
SUMMARY:Weekly Deals
URL;VALUE=URI:https://stampinup.net/crm/events/166420
END:VEVENT
END:VCALENDAR
