BEGIN:VCALENDAR
VERSION:2.0
PRODID:icalendar-ruby
CALSCALE:GREGORIAN
METHOD:PUBLISH
BEGIN:VEVENT
DTSTAMP:20260419T232333Z
UID:event-166340@stampinup.net
DTSTART;TZID=Australia/Sydney:20220920T140000
DTEND;TZID=Australia/Sydney:20220920T150000
CREATED:20220917T171358
DESCRIPTION:This year for Stampin’ Up! Day of Service(in Australia will 
 be officially 21 September as the 22nd is now a day of mourning) they ar
 e focusing efforts as a community to help fight hunger and food insecurity
  in our communities\, and we want you to join us!\n\nI'll be having a Face
 book Live to put together my Nourish &amp\; Flourish Kit on the 20th Septe
 mber\, come and join me!\nhttps://www.facebook.com/ByFiHandcrafts\n\nWith
  every Nourish &amp\; Flourish kit purchased by you\, Stampin' Up! are do
 nating $4.25 to organizations fighting to end food scarcity. Each kit come
 s with printed die-cut sentiments in Dutch\, English\, French\, and German
 .\nTo purchase your Kit https://s.tamp.in/cxbutj\n\nIn Australia\, the fu
 nds raised go to FareShare.\nhttps://www.fareshare.net.au/\nWhere their me
 als go https://www.fareshare.net.au/where-our-meals-go/\n\nKit includes:\
 n* Designed projects\n* Step-by-step instructions\n* Precut pieces (No pre
 p work! Get right to crafting)\n* Makes 9 cards: 3 each of 3 designs\n* Fo
 lded card size: 4-1/4" x 5-1/2" (10.8 x 14 cm)\n* 9 printed envelopes\n* E
 nough adhesive to complete projects\n* Coordinating insulated 9" x 6-1/2" 
 x 6-1/4" (22.9 x 16.5 x 15.9 cm) lunch bag\n\nProduct colours: Calypso Cor
 al\, Daffodil Delight\, Old Olive\, Petal Pink\, Pool Party\, Shaded Spruc
 e\n\nKits by Stampin’ Up! are perfect for new crafters\, busy crafters\,
  or crafters who want quick and easy projects. All-inclusive project kits 
 have everything you need in one box! Give as a gift or try them yourself. 
 Kits are while supplies last. Order today!\n\nOther Ways You Can Make a Di
 fference in Your Community:\n\n\n	Donate food items to a local food bank.\
 n	Volunteer your time at a local food bank\, soup kitchen\, or food insecu
 rity organisation.\n	Sign up with a local organisation to deliver meals to
  those in need.\n\n\n\nEvent link: https://stampinup.net/crm/events/166340
LAST-MODIFIED:20220917T171358
ORGANIZER;CN=Fiona Fernandez:mailto:Byfihandcrafts@gmail.com
SUMMARY:Make a Difference! Day of Service
URL;VALUE=URI:https://stampinup.net/crm/events/166340
END:VEVENT
END:VCALENDAR
