BEGIN:VCALENDAR
VERSION:2.0
PRODID:icalendar-ruby
CALSCALE:GREGORIAN
METHOD:PUBLISH
BEGIN:VEVENT
DTSTAMP:20260425T235503Z
UID:event-165954@stampinup.net
DTSTART;TZID=America/Chicago:20220911T140000
DTEND;TZID=America/Chicago:20220911T170000
CREATED:20220913T205342
DESCRIPTION:Come make five fun projects!  Cost is $10 refundable with a $5
 0 purchase.\n\nEvent link: https://stampinup.net/crm/events/165954
LAST-MODIFIED:20220913T205342
LOCATION:Ruthie's House\, 6705 Fire Hill Drive\, Ft Worth\, TX 76137
ORGANIZER;CN=Ruthie Burkey:mailto:ruthieb76137@yahoo.com
SUMMARY:Stamp Camp
URL;VALUE=URI:https://stampinup.net/crm/events/165954
RRULE:FREQ=MONTHLY;BYDAY=2SU
END:VEVENT
END:VCALENDAR
