BEGIN:VCALENDAR
VERSION:2.0
PRODID:icalendar-ruby
CALSCALE:GREGORIAN
METHOD:PUBLISH
BEGIN:VEVENT
DTSTAMP:20260424T113616Z
UID:event-165344@stampinup.net
DTSTART;TZID=America/New_York:20220922T100000
DTEND;TZID=America/New_York:20220922T150000
CREATED:20220909T103018
DESCRIPTION:Open Craft is a fun day to come and craft in good company. Brin
 g whatever projects you have on the go that you want to work on. You are r
 esponsible for bringing your own trimmer\, adhesive\, stamps\, inks\, etc.
  My punches\, dies and embossing folders and Big Shot are available for yo
 u to use during this time.\n\nSadly we will not be doing pot luck lunches 
 as we used to for now\, but hopefully we can continue with those in time. 
 You will need to bring a bagged lunch.\n\nI have an assortment of adhesive
  and kits on hand for purchase if needed.\n\nSpace is limited. RSVP on or 
 before September 19 with your $10 payment by EMT to krissie-76@hotmail.com
  to reserve your spot.\n\nEvent link: https://stampinup.net/crm/events/165
 344
LAST-MODIFIED:20221117T092406
LOCATION:My Home\, 4320 Vasey Rd. Victoria Harbour\, ON
ORGANIZER;CN=Kristen Hancock:mailto:krissie-76@hotmail.com
SUMMARY:Open Craft
URL;VALUE=URI:https://stampinup.net/crm/events/165344
END:VEVENT
END:VCALENDAR
