BEGIN:VCALENDAR
VERSION:2.0
PRODID:icalendar-ruby
CALSCALE:GREGORIAN
METHOD:PUBLISH
BEGIN:VEVENT
DTSTAMP:20260420T102946Z
UID:event-164814@stampinup.net
DTSTART;TZID=America/New_York:20221112T190000
DTEND;TZID=America/New_York:20221112T220000
CREATED:20220904T212943
DESCRIPTION:If you are a Stampin' Up! demonstrator\, you know how amazing S
 tampin' Up! events are\, especially spending time with your fellow SU demo
  friends!  \n\nWell\, if you are attending the Stampin' Up! OnStage in In
 dianapolis\, join us for the Pizza &amp\; Pajama Paper Party for an OnStag
 e after-party!\n\nGrab your craziest pajamas\, and join all the fun!!  We
  will enjoy a pizza meal\, then swap (optional)\, before playing games\, w
 inning prizes\, and creating together!\n\nWe are also hosting the Paper Pa
 looza all-day demonstrator event the day before OnStage.  Join us for bot
 h for a ton of fun!\n\nYour event fee includes:\n•event space\n•drinks
 \n•a full classes\n•games\n•pizza\n•swag\n•prizes\n•optional p
 roject swap\n\nSpace is limited - register today before it is full!\n\nFee
 :  $75 Paper Palooza\n         $45 Pizza &amp\; Pajama Paper Party\
 n         SAVE - $110 for both\n\nRSVP Deadline: September 28th\n\nC
 lick here to register\n\nDo you want to join the fun\, but are not a demon
 strator?  \nClick here to JOIN MY TEAM &amp\; join us for all the OnStag
 e fun!!\n\nEvent link: https://stampinup.net/crm/events/164814
LAST-MODIFIED:20220904T213109
LOCATION:Hampton Inn  Zionsville\, 6005 S Main St\, Zionsville\, IN
ORGANIZER;CN=Melanie Hockin:mailto:melsinkyfingers@gmail.com
SUMMARY:Pizza & Pajama Paper Party Demonstrator Event Indianapolis
URL;VALUE=URI:https://stampinup.net/crm/events/164814
END:VEVENT
END:VCALENDAR
