BEGIN:VCALENDAR
VERSION:2.0
PRODID:icalendar-ruby
CALSCALE:GREGORIAN
METHOD:PUBLISH
BEGIN:VEVENT
DTSTAMP:20260421T132008Z
UID:event-163787@stampinup.net
DTSTART;TZID=America/New_York:20221127T200000
DTEND;TZID=America/New_York:20221127T210000
CREATED:20220830T112703
DESCRIPTION:New Blog hop goes live at 8 pm. Check it out at TonyaBowers.com
 .\n\nEvent link: https://stampinup.net/crm/events/163787
LAST-MODIFIED:20220830T112703
LOCATION:TonyaBowers.com
ORGANIZER;CN=Tonya Bowers:mailto:tonya.bowers@me.com
SUMMARY:NC Demos Blog Hop
URL;VALUE=URI:https://stampinup.net/crm/events/163787
END:VEVENT
END:VCALENDAR
