BEGIN:VCALENDAR
VERSION:2.0
PRODID:icalendar-ruby
CALSCALE:GREGORIAN
METHOD:PUBLISH
BEGIN:VEVENT
DTSTAMP:20260425T182900Z
UID:event-163784@stampinup.net
DTSTART;TZID=America/New_York:20220914T140000
DTEND;TZID=America/New_York:20220914T150000
CREATED:20220830T112422
DESCRIPTION:\n\nEvent link: https://stampinup.net/crm/events/163784
LAST-MODIFIED:20220830T112422
LOCATION:Online
ORGANIZER;CN=Tonya Bowers:mailto:tonya.bowers@me.com
SUMMARY:Creativate Meeting
URL;VALUE=URI:https://stampinup.net/crm/events/163784
END:VEVENT
END:VCALENDAR
