BEGIN:VCALENDAR
VERSION:2.0
PRODID:icalendar-ruby
CALSCALE:GREGORIAN
METHOD:PUBLISH
BEGIN:VEVENT
DTSTAMP:20260420T073546Z
UID:event-163254@stampinup.net
DTSTART;TZID=America/Chicago:20221001T100000
DTEND;TZID=America/Chicago:20221001T150000
CREATED:20220824T161556
DESCRIPTION:Get a head start on your Christmas Card!\nChoose 5 designs from
  a variety of options (all Christmas) and create 2 of each design\nCost is
  $25\nOpen House style between 10 am - 3 pm\nWelcome to stay for the onlin
 e World Card Making Day Event which runs from 3pm to 6pm\n\nEvent link: ht
 tps://stampinup.net/crm/events/163254
LAST-MODIFIED:20220824T161556
LOCATION:@The Roost\, 3025 Vega Ave\, Mayer\, MN 55360
ORGANIZER;CN=Robyn Rasset:mailto:rrasset@frontier.com
SUMMARY:World Card Making Day Card Cafe
URL;VALUE=URI:https://stampinup.net/crm/events/163254
END:VEVENT
END:VCALENDAR
