BEGIN:VCALENDAR
VERSION:2.0
PRODID:icalendar-ruby
CALSCALE:GREGORIAN
METHOD:PUBLISH
BEGIN:VEVENT
DTSTAMP:20260420T012303Z
UID:event-16306@stampinup.net
DTSTART;TZID=America/Denver:20200401T190000
DTEND;TZID=America/Denver:20200401T210000
CREATED:20191004T193823
DESCRIPTION:At Stampin’ Rewards Club\, we learn new techniques and fancy 
 folds. If you would like to come to the club workshop as a guest and try i
 t out\, the guest fee is $15 (or a $30 Stampin’ Up! order\, pre-shipping
 /tax). Contact me to register. Interested in joining the Stampin’ Reward
 s Club? Message me for details!\n\nEvent link: https://stampinup.net/crm/e
 vents/16306
LAST-MODIFIED:20191004T200505
LOCATION:Moose Jaw\, SK
ORGANIZER;CN=Shauna Mikuliak:mailto:bmikuliak@sasktel.net
SUMMARY:Stampin’ Rewards Club
URL;VALUE=URI:https://stampinup.net/crm/events/16306
END:VEVENT
END:VCALENDAR
