BEGIN:VCALENDAR
VERSION:2.0
PRODID:icalendar-ruby
CALSCALE:GREGORIAN
METHOD:PUBLISH
BEGIN:VEVENT
DTSTAMP:20260426T031851Z
UID:event-163050@stampinup.net
DTSTART;TZID=America/Chicago:20220901T170000
DTEND;TZID=America/Chicago:20220905T180000
CREATED:20220822T153006
DESCRIPTION:Off to have some uninterupted creative time with friends!\n\nEv
 ent link: https://stampinup.net/crm/events/163050
LAST-MODIFIED:20220822T153006
ORGANIZER;CN=Laura Venvertloh:mailto:laurascreativecorner2007@gmail.com
SUMMARY:Creative Cottage weekend!
URL;VALUE=URI:https://stampinup.net/crm/events/163050
END:VEVENT
END:VCALENDAR
