BEGIN:VCALENDAR
VERSION:2.0
PRODID:icalendar-ruby
CALSCALE:GREGORIAN
METHOD:PUBLISH
BEGIN:VEVENT
DTSTAMP:20260421T064245Z
UID:event-162299@stampinup.net
DTSTART;TZID=America/New_York:20221001T153000
DTEND;TZID=America/New_York:20221001T193000
CREATED:20220815T151043
DESCRIPTION:I am hosting an in-person gathering on October 1st from 3:30pm 
 - 7:30pm EST to celebrate World Card Making Day.\n\nBring your bundles\, c
 lear blocks\, and your class kit (scissors\, adhesive\, and bone folder). 
 I will supply the cardstock\, ink\, coloring tools\, and die cutting machi
 ne.\n\nWe will connect to the virtual event by computer and broadcast it t
 o the television.\n\nThe cost is $20 to cover the use of my materials. Sna
 cks and beverages will also be served.\n\nPlease\, RSVP by September 21st 
 at 5pm EST by phone or by email.\n\nFor more World Card Making Creative Ev
 ent details\, please\, visit my blog at https://craftwithbeth.blogspot.com
 /2022/08/friday-world-card-making-day-event.html .\n\nEvent link: https://
 stampinup.net/crm/events/162299
LAST-MODIFIED:20220815T151129
ORGANIZER;CN=Beth Arnold:mailto:craftwithbeth@gmail.com
SUMMARY:World Card Making Day Creative Event
URL;VALUE=URI:https://stampinup.net/crm/events/162299
END:VEVENT
END:VCALENDAR
