BEGIN:VCALENDAR
VERSION:2.0
PRODID:icalendar-ruby
CALSCALE:GREGORIAN
METHOD:PUBLISH
BEGIN:VEVENT
DTSTAMP:20260425T104521Z
UID:event-161321@stampinup.net
DTSTART;VALUE=DATE:20220831
DTEND;VALUE=DATE:20220831
CREATED:20220804T124408
DESCRIPTION:Today is the final day to take advantage of this special promot
 ion.\nShop &amp\; Earn Free Exclusive products with a qualifying order\nHo
 st &amp\; Earn the Perfect Pomegranates stamp set free with a qualifying p
 arty\nJoin the Stampin' Up! family &amp\; receive the Making Plans Collect
 ion Free with your Starter Kit\nClick here for more details or Contact Me 
 and I will be happy to help you. \n\nEvent link: https://stampinup.net/cr
 m/events/161321
LAST-MODIFIED:20220804T124408
LOCATION:My Online Store
ORGANIZER;CN=Tricia Butts:mailto:mistyoverseas@msn.com
SUMMARY:Sale-a-bration Ends Today 
URL;VALUE=URI:https://stampinup.net/crm/events/161321
END:VEVENT
END:VCALENDAR
