BEGIN:VCALENDAR
VERSION:2.0
PRODID:icalendar-ruby
CALSCALE:GREGORIAN
METHOD:PUBLISH
BEGIN:VEVENT
DTSTAMP:20260425T174444Z
UID:event-161267@stampinup.net
DTSTART;TZID=America/Denver:20220813T100000
DTEND;TZID=America/Denver:20220813T140000
CREATED:20220803T201333
DESCRIPTION:Join us this month to get your all occasion cards built up!  
 \n\nDoor Prizes!\nLunch!\n12 Cards (3 of 4 designs)\n$40 or free with a $5
 0 order\n\nCan't wait to see everyone!\nSheila\n\nEvent link: https://stam
 pinup.net/crm/events/161267
LAST-MODIFIED:20220808T183155
LOCATION:Locomotive Inn in Laurel Montana\, 310 S. 1st Avenue\, Laurel\, MT
  
ORGANIZER;CN=Sheila Barthel:mailto:shebarthel@msn.com
SUMMARY:August Card Class!
URL;VALUE=URI:https://stampinup.net/crm/events/161267
END:VEVENT
END:VCALENDAR
