BEGIN:VCALENDAR
VERSION:2.0
PRODID:icalendar-ruby
CALSCALE:GREGORIAN
METHOD:PUBLISH
BEGIN:VEVENT
DTSTAMP:20260425T160230Z
UID:event-161203@stampinup.net
DTSTART;TZID=America/New_York:20220903T100000
DTEND;TZID=America/New_York:20220903T120000
CREATED:20220803T092410
DESCRIPTION:Each class has something for everyone.  From the Beginner\, to
  the Casual\, to the Avid Stamper/Card Maker!  Each class memeber will re
 ceive a packet of consumable supplies &amp\; envelopes to make 4 cards.  
 You can meke it exactly as the sample\, or make it your own style. The cre
 ativity is in your hands while Karie is there to guid you in the process.
   Class is approximately 2 hours.  Stamps\, inks\, dies\, etc are provid
 ed for your use.  Just $20 Sign up Today!  \nPayment required with rese
 rvation (space is limited) Use either of these options:\nTo pay using Venm
 o \nTo pay using PayPal\nOr Call the store 248-266-1496\nEmail Karie for 
 more information MemoryINKers@gmail.com\nPhoto does not show actual class 
 projects\n\nEvent link: https://stampinup.net/crm/events/161203
LAST-MODIFIED:20230120T141247
LOCATION:Inside the Life In The Craft Room store\, 33304 W 12 Mile Rd Farmi
 ngton Hills\, MI 48334
ORGANIZER;CN=Karie Beglau:mailto:memoryinkers@gmail.com
SUMMARY:Cards with Karie
URL;VALUE=URI:https://stampinup.net/crm/events/161203
END:VEVENT
END:VCALENDAR
