BEGIN:VCALENDAR
VERSION:2.0
PRODID:icalendar-ruby
CALSCALE:GREGORIAN
METHOD:PUBLISH
BEGIN:VEVENT
DTSTAMP:20260421T101814Z
UID:event-161190@stampinup.net
DTSTART;TZID=America/New_York:20220821T120000
DTEND;TZID=America/New_York:20220821T170000
CREATED:20220803T083336
DESCRIPTION:Come and shop at my BOGO. All orders must be placed online usin
 g special Host Code at event. Need your password reset? Call Stampin' Up! 
 at 1-800-STAMPUP so they can help you. (Note: Stampin' Up! is closed on th
 e weekends\, so you will need your password reset before coming to this BO
 GO. Next BOGO will be in September.)\n\nEvent link: https://stampinup.net/
 crm/events/161190
LAST-MODIFIED:20220803T083336
LOCATION:Dawn's Garage
ORGANIZER;CN=Dawn Stock:mailto:StampingWithDawn@hotmail.com
SUMMARY:BOGO Sale
URL;VALUE=URI:https://stampinup.net/crm/events/161190
END:VEVENT
END:VCALENDAR
