BEGIN:VCALENDAR
VERSION:2.0
PRODID:icalendar-ruby
CALSCALE:GREGORIAN
METHOD:PUBLISH
BEGIN:VEVENT
DTSTAMP:20260422T150418Z
UID:event-161188@stampinup.net
DTSTART;TZID=America/New_York:20220820T090000
DTEND;TZID=America/New_York:20220820T110000
CREATED:20220803T083042
DESCRIPTION:Join us for this IN PERSON Kit Class! Get more information at:
  http://events.constantcontact.com/register/event?llr=hf5ucq9ab&amp\;oeid
 k=a07ejbhp0c03043596d\n\nAND Shop my BOGO Sale EARLY!!!\n\nEvent link: htt
 ps://stampinup.net/crm/events/161188
LAST-MODIFIED:20220814T125600
LOCATION:Dawn's Garage - Dress for the Weather!
ORGANIZER;CN=Dawn Stock:mailto:StampingWithDawn@hotmail.com
SUMMARY:Christmas in July IN AUGUST!
URL;VALUE=URI:https://stampinup.net/crm/events/161188
END:VEVENT
END:VCALENDAR
