BEGIN:VCALENDAR
VERSION:2.0
PRODID:icalendar-ruby
CALSCALE:GREGORIAN
METHOD:PUBLISH
BEGIN:VEVENT
DTSTAMP:20260423T093834Z
UID:event-160767@stampinup.net
DTSTART;TZID=America/Denver:20220820T140000
DTEND;TZID=America/Denver:20220820T163000
CREATED:20220731T205537
DESCRIPTION:Come make 6 all-occasion cards for $22\n\nEvent link: https://s
 tampinup.net/crm/events/160767
LAST-MODIFIED:20220808T192231
LOCATION:Smoky Hill Library\, 430 S Biscay Cir\, Centennial\, CO 80015
ORGANIZER;CN=Jo Golden:mailto:jo@goldenhome.org
SUMMARY:Stamp Camp in  Aurora Area
URL;VALUE=URI:https://stampinup.net/crm/events/160767
END:VEVENT
END:VCALENDAR
