BEGIN:VCALENDAR
VERSION:2.0
PRODID:icalendar-ruby
CALSCALE:GREGORIAN
METHOD:PUBLISH
BEGIN:VEVENT
DTSTAMP:20260421T202114Z
UID:event-160765@stampinup.net
DTSTART;TZID=America/Denver:20220820T100000
DTEND;TZID=America/Denver:20220820T120000
CREATED:20220731T205318
DESCRIPTION:Come make 6 all-occasion cards (including envelopes) \n\nFee: 
 $20 per person - Stampin Sisters Team Members pay only $15\n\nEvent link: 
 https://stampinup.net/crm/events/160765
LAST-MODIFIED:20220818T082626
LOCATION:Centennial Lutheran Church
ORGANIZER;CN=Jo Golden:mailto:jo@goldenhome.org
SUMMARY:Stamp Camp in Denver Area
URL;VALUE=URI:https://stampinup.net/crm/events/160765
END:VEVENT
END:VCALENDAR
