BEGIN:VCALENDAR
VERSION:2.0
PRODID:icalendar-ruby
CALSCALE:GREGORIAN
METHOD:PUBLISH
BEGIN:VEVENT
DTSTAMP:20260423T153143Z
UID:event-160761@stampinup.net
DTSTART;TZID=America/Denver:20220819T100000
DTEND;TZID=America/Denver:20220819T120000
CREATED:20220731T205032
DESCRIPTION:We will make 3 greeting cards with envelopes.  This event is f
 ree with a $25 order or $10.  Please email me for more information - jo@g
 oldenhome.org\n\nEvent link: https://stampinup.net/crm/events/160761
LAST-MODIFIED:20220731T205032
LOCATION:Jo's Studio
ORGANIZER;CN=Jo Golden:mailto:jo@goldenhome.org
SUMMARY:Friday Morning Greeting Card Class
URL;VALUE=URI:https://stampinup.net/crm/events/160761
END:VEVENT
END:VCALENDAR
