BEGIN:VCALENDAR
VERSION:2.0
PRODID:icalendar-ruby
CALSCALE:GREGORIAN
METHOD:PUBLISH
BEGIN:VEVENT
DTSTAMP:20260419T232726Z
UID:event-160618@stampinup.net
DTSTART;TZID=Australia/Sydney:20221001T140000
DTEND;TZID=Australia/Sydney:20221001T170000
CREATED:20220731T055657
DESCRIPTION:Celebrate World Card Making Day by getting together with friend
 s and making cards. \n\nClick this link to go straight to the Stampin' Up
 ! website event\, where you can watch it.\nhttps://events.stampinup.com/wo
 rldcardmakingday\n \nWho: Anyone!\n\nWhen: 1 October from 2:00–5:00 p
 .m. (AEST)\n\nWhere: Online\n\nPrice of Event: Free - you don't have to 
 register with Stampin' Up!\, but they have something special coming so its
  a good idea to\, click here to go to the information page and the registe
 r link. \n\nRegistration Dates*: 11 August–1 October\n\nLanguage of Ev
 ent: The event will be in English with language interpretation voiceover 
 and subtitles in English\, French\, German\, and Dutch\n\nWorld Card Makin
 g Day is all about making beautiful\, heartfelt cards. During the event\, 
 we’ll walk you through several projects\, and you’ll create the cards 
 right along with us. You’ll end up with new project ideas and some stunn
 ing new cards!\n\nTo make the most of this experience\, you can order the
  Cottage Rose Bundle from the 2022–2023 Annual Catalogue\, the Cottage
  Wreaths Bundle from the July–December 2022 Mini Catalogue\, or the Warm
  Welcome Bundle\, which you can get early from the January–June 2023 Min
 i Catalogue! If you want\, you could even order all three bundles! The War
 m Welcome Bundle will be available for purchase starting 1 September*.\nSe
 e this link to the flyer https://s.tamp.in/DPcJNe\n\nWhen you order any 
 of the select bundles before the 2nd October\, you’ll get a FREE gift of
  Iridescent Pearl Basic Jewels! (Note that even if you order all three bu
 ndles\, you’ll only receive one Iridescent Pearls gift.) \nTo prepare s
 ome card ready for the day\, see the resource below for the measurements.\
 n\nContact me to join in!\n\nFi\n\nEvent link: https://stampinup.net/crm/e
 vents/160618
LAST-MODIFIED:20220930T214805
LOCATION:ZOOM
ORGANIZER;CN=Fiona Fernandez:mailto:Byfihandcrafts@gmail.com
SUMMARY:World Card Making Day with Fiona 
URL;VALUE=URI:https://stampinup.net/crm/events/160618
END:VEVENT
END:VCALENDAR
