BEGIN:VCALENDAR
VERSION:2.0
PRODID:icalendar-ruby
CALSCALE:GREGORIAN
METHOD:PUBLISH
BEGIN:VEVENT
DTSTAMP:20260422T120015Z
UID:event-16056@stampinup.net
DTSTART;VALUE=DATE:20191001
DTEND;VALUE=DATE:20191001
CREATED:20191003T225114
DESCRIPTION:The Host Code for October 2019 Online Orders is:  R3Q39T6T\nI
 f you use this code when placing online orders this month (orders up to $1
 49) you will receive a free gift from me at the end of the month.\n\nMy Oc
 tober Host Code Gift is: Jingle Bells from page 13 of the Holiday Catalog.
 \n\nEvent link: https://stampinup.net/crm/events/16056
LAST-MODIFIED:20191003T225445
ORGANIZER;CN=Susie Kalantarian:mailto:SUSIE@KALANTARIAN.NET
SUMMARY:OCTOBER HOST CODE:  R3Q39T6T
URL;VALUE=URI:https://stampinup.net/crm/events/16056
END:VEVENT
END:VCALENDAR
