BEGIN:VCALENDAR
VERSION:2.0
PRODID:icalendar-ruby
CALSCALE:GREGORIAN
METHOD:PUBLISH
BEGIN:VEVENT
DTSTAMP:20260423T225449Z
UID:event-16041@stampinup.net
DTSTART;TZID=America/New_York:20191016T190000
DTEND;TZID=America/New_York:20191016T210000
CREATED:20191003T211533
DESCRIPTION:Come make six cards during this event\, two each of three diffe
 rent designs. No stamping experience required. Please bring your own adhes
 ive or purchase from my cash &amp\; carry adhesives. Light refreshments wi
 ll be served. Cost is $15 per person. Please RSVP by Monday\, October 14th
 . Looking forward to stamping with you!\n\nEvent link: https://stampinup.n
 et/crm/events/16041
LAST-MODIFIED:20191003T211533
LOCATION:North Haven\, CT
ORGANIZER;CN=Holly Obier:mailto:HAVEFUNSTAMPING@COMCAST.NET
SUMMARY:Cards\, Conversation & Creativity Night
URL;VALUE=URI:https://stampinup.net/crm/events/16041
END:VEVENT
END:VCALENDAR
