BEGIN:VCALENDAR
VERSION:2.0
PRODID:icalendar-ruby
CALSCALE:GREGORIAN
METHOD:PUBLISH
BEGIN:VEVENT
DTSTAMP:20260422T084055Z
UID:event-160276@stampinup.net
DTSTART;TZID=America/Chicago:20220816T100000
DTEND;TZID=America/Chicago:20220816T150000
CREATED:20220726T144041
DESCRIPTION:\n\nEvent link: https://stampinup.net/crm/events/160276
LAST-MODIFIED:20220726T144041
LOCATION:Murray Stamps INK Studio\, 3511 Royal Woods Dr  Crystal Lake IL 60
 014-3000
ORGANIZER;CN=Ann Murray:mailto:AMGassman@sbcglobal.net
SUMMARY:CHRISTMAS CLUB
URL;VALUE=URI:https://stampinup.net/crm/events/160276
END:VEVENT
END:VCALENDAR
