BEGIN:VCALENDAR
VERSION:2.0
PRODID:icalendar-ruby
CALSCALE:GREGORIAN
METHOD:PUBLISH
BEGIN:VEVENT
DTSTAMP:20260424T171625Z
UID:event-160161@stampinup.net
DTSTART;TZID=Australia/Brisbane:20220825T093000
DTEND;TZID=Australia/Brisbane:20220825T120000
CREATED:20220725T172815
DESCRIPTION:Ways for using Markers\nCreate 3 cards all featuring the same t
 echnique.  All supplies included.  RSVP to me 0409 873 820\n\nEvent link
 : https://stampinup.net/crm/events/160161
LAST-MODIFIED:20220725T172815
LOCATION:My Home\, 31 Sugar view Lane Rosemount
ORGANIZER;CN=Julia Quinn:mailto:julia@handmadebyjuliaquinn.com
SUMMARY:Technique Cardmaking Class
URL;VALUE=URI:https://stampinup.net/crm/events/160161
END:VEVENT
END:VCALENDAR
