BEGIN:VCALENDAR
VERSION:2.0
PRODID:icalendar-ruby
CALSCALE:GREGORIAN
METHOD:PUBLISH
BEGIN:VEVENT
DTSTAMP:20260421T235627Z
UID:event-160160@stampinup.net
DTSTART;TZID=Australia/Brisbane:20220812T093000
DTEND;TZID=Australia/Brisbane:20220812T120000
CREATED:20220725T172613
DESCRIPTION:WV fold\n2 great cards + PDF of more project using the same fol
 d included in class price.  All supplies included.\nRSVP to 0409 873 820\
 n\nEvent link: https://stampinup.net/crm/events/160160
LAST-MODIFIED:20220725T172613
LOCATION:My Home\, 31 Sugar view Lane Rosemount
ORGANIZER;CN=Julia Quinn:mailto:julia@handmadebyjuliaquinn.com
SUMMARY:Fancy Fold cards
URL;VALUE=URI:https://stampinup.net/crm/events/160160
END:VEVENT
END:VCALENDAR
