BEGIN:VCALENDAR
VERSION:2.0
PRODID:icalendar-ruby
CALSCALE:GREGORIAN
METHOD:PUBLISH
BEGIN:VEVENT
DTSTAMP:20260421T215554Z
UID:event-159578@stampinup.net
DTSTART;VALUE=DATE:20220906
DTEND;VALUE=DATE:20220906
CREATED:20220718T150802
DESCRIPTION:Want to learn something new and make some new friends in a simp
 le\, low-stress environment?  Have you paper crafted in the past\, but wa
 nt to refresh your memory and try out some terrific new products? Then my 
 Stamping 101 class is perfect for you!  In this four-week program you wil
 l learn the fundamentals of rubber stamping through hands-on activities. N
 o previous experience or supplies are needed.  Just come ready to have fu
 n and create something fantastic!\n\nEach weekly lesson will build on the 
 previous week and by the end of the fourth week you will have all the skil
 ls needed to attend ANY of my events\, join a hostess club or stamp on you
 r own with confidence!\n\n\n	Week 1: Introduction to the Art of Stamping (
 stamps\, ink\, and paper)\n	Week 2: Introducing Basic Tools\n	Week 3: Mast
 ering the Paper Trimmer\n	Week 4: Basic Stamping Techniques\n\n\nCost for 
 all four classes is $50 and includes:\n\n\n	All supplies needed to complet
 e one card and matching envelope each week.\n	Stamping 101 Workbook with l
 ots of great resources!\n	Access to a private Facebook Group for class att
 endees to connect and share what they are learning and doing along with li
 nks to helpful blogs\, videos and more from me.\n\n\nAugust Class dates an
 d times:\n\nTuesday\, September 6th at 11:30am to 1:30pm\, 2:30 to 4:00pm
  and 6:30 to 8:00pm\n\nTuesday\, September 13th at 11:30am to 1:30pm\, 2:3
 0 to 4:00pm and 6:30 to 8:00pm\n\nTuesday\, September 20th at 11:30am to 1
 :30pm\, 2:30 to 4:00pm and 6:30 to 8:00pm\n\nTuesday\, September 27th at 
 11:30am to 1:30pm\, 2:30 to 4:00pm and 6:30 to 8:00pm\n\nEach class will b
 e offered several times and you may choose to attend the session that best
  fits your schedule\, space permitting.  If you can’t make a particular
  class\, no worries! You may attend it the next month.\n\nEach session wil
 l last 1 and ½ hours. Please arrive 5 minutes early to get settled.\n\nEa
 ch class will be limited to six people.   \n\nDo you have a group of 3 o
 r more family or friends who would enjoy your own weekly or monthly sessio
 ns?  Contact me to schedule your personal paper crafting experience!\n\n\
 nEvent link: https://stampinup.net/crm/events/159578
LAST-MODIFIED:20220718T150802
LOCATION:the Stamp Pad\, Raleigh\, NC
ORGANIZER;CN=Tracie Langley:mailto:tracie@stampwithtracie.com
SUMMARY:Stamping 101
URL;VALUE=URI:https://stampinup.net/crm/events/159578
END:VEVENT
END:VCALENDAR
