BEGIN:VCALENDAR
VERSION:2.0
PRODID:icalendar-ruby
CALSCALE:GREGORIAN
METHOD:PUBLISH
BEGIN:VEVENT
DTSTAMP:20260419T224111Z
UID:event-159366@stampinup.net
DTSTART;TZID=America/Chicago:20220913T143000
DTEND;TZID=America/Chicago:20220913T170000
CREATED:20220716T094201
DESCRIPTION:We will make 5 beautiful hand stamped cards featuring the Charm
 ing Sentiments Stamp Set and Sentiment Silhouettes Dies.\n\nTuesday\, Sept
 ember 13\, 2:30 - 5:00 pm\nTuesday\, September 13\, 5:30 - 8:00 pm\nPrice 
 $15.00\nReserve your spot now!\nBring your adhesives and Basic Tool Kit. 
  Please put your name on all your items. Adhesives will also be available
  for purchase at class.\n\nOther products we will use are:\nArtistically I
 nked Stamp Set\nArtistic Dies\nQuatrefoil Tile Embossing Folder\nRays of L
 ight Stamp Set\nBrilliant Wings Dies\nCloud Punch\nLayering Circles Dies\n
 Design a Daydream Designer Series Paper\nPoppy Moments Dies\nStripes &amp\
 ; Splatters 3D Embossing Folders\nHello Ladybug Stamp Set\nScalloped Conto
 urs Dies Poppy Moments Dies\nLadybug Builder Punch\nMedium Daisy Punch\n\n
 Event link: https://stampinup.net/crm/events/159366
LAST-MODIFIED:20220716T094201
ORGANIZER;CN=Susan Miller:mailto:STAMPIN@DREAMLAKEDESIGN.COM
SUMMARY:Charming Sentiments Stamp Camp
URL;VALUE=URI:https://stampinup.net/crm/events/159366
END:VEVENT
END:VCALENDAR
