BEGIN:VCALENDAR
VERSION:2.0
PRODID:icalendar-ruby
CALSCALE:GREGORIAN
METHOD:PUBLISH
BEGIN:VEVENT
DTSTAMP:20260425T164724Z
UID:event-159209@stampinup.net
DTSTART;TZID=America/Chicago:20220806T120000
DTEND;TZID=America/Chicago:20220806T140000
CREATED:20220714T132011
DESCRIPTION:The next 4 for Fun! Event will be happening soon. We are using 
 the Christmas Scottie Bundle! Let’s get a jump on those Christmas cards.
 \n\nClass is 8/6/22 at 12pm CDT (10am PDT). You will have access to the li
 ve presentations via a private Facebook Group. The videos will be saved fo
 r you to watch at a later time if the class time is not convenient\, or to
  rewatch anytime you want.\n\nRSVPs and fees are due by 7/16/22.\n\nCost i
 s $39\, which includes priority shipping. You get over $20 in product and 
 the cardstock supplies cut and prepped to make 8 gorgeous cards (2 each of
  4 designs). You will also see 8 more ideas using this bundle AND get the 
 written tutorial for all 12 projects!\n\nYou can use a stamp set and punch
  you already have\, or you can add on the Christmas Scottie Bundle for $37
  (a 17% saving). \n\nOr you can purchase just the tutorial only for $10 af
 ter the class. Payment can be made via Zelle\, PayPal (friends &amp\; fami
 ly) or Venmo. Call/text/email or PM me with any questions!\n\nI am also av
 ailable to host this event via a Zoom class format\, if you have a friend 
 or 2 that want to do a private class. Contact me and we can work out the d
 etails! \n\n\nEvent link: https://stampinup.net/crm/events/159209
LAST-MODIFIED:20220714T132011
LOCATION:Online
ORGANIZER;CN=Debbi Green:mailto:DOGRRRL@SBCGLOBAL.NET
SUMMARY:4 for Fun! - Christmas Scottie
URL;VALUE=URI:https://stampinup.net/crm/events/159209
END:VEVENT
END:VCALENDAR
