BEGIN:VCALENDAR
VERSION:2.0
PRODID:icalendar-ruby
CALSCALE:GREGORIAN
METHOD:PUBLISH
BEGIN:VEVENT
DTSTAMP:20260424T032720Z
UID:event-158554@stampinup.net
DTSTART;TZID=America/Chicago:20220915T183000
DTEND;TZID=America/Chicago:20220915T203000
CREATED:20220707T173141
DESCRIPTION:\n\nEvent link: https://stampinup.net/crm/events/158554
LAST-MODIFIED:20220909T215417
LOCATION:Judy's House
ORGANIZER;CN=Judy Garza:mailto:judyghome@gmail.com
SUMMARY:Paper Dolls - Hostess Kim
URL;VALUE=URI:https://stampinup.net/crm/events/158554
END:VEVENT
END:VCALENDAR
