BEGIN:VCALENDAR
VERSION:2.0
PRODID:icalendar-ruby
CALSCALE:GREGORIAN
METHOD:PUBLISH
BEGIN:VEVENT
DTSTAMP:20260420T162331Z
UID:event-158398@stampinup.net
DTSTART;TZID=America/Chicago:20221108T100000
DTEND;TZID=America/Chicago:20221108T120100
CREATED:20220706T141202
DESCRIPTION:You will create 6 cards\, 2 each of 3 different designs.  All 
 supplies are ready for you to stamp\, die cut\, punch out\, or emboss and
   assemble your cards.  Samples are available to copy or you can design 
 your own.  Envelopes are provided.  Just bring is your favorite adhesive
 . Fee is $15.\nRSVP by the Sunday before the class.\n\nEvent link: https:/
 /stampinup.net/crm/events/158398
LAST-MODIFIED:20220706T141202
ORGANIZER;CN=Maria Daubert:mailto:maria@mariastamps.com
SUMMARY:6 for $15 Class
URL;VALUE=URI:https://stampinup.net/crm/events/158398
END:VEVENT
END:VCALENDAR
