BEGIN:VCALENDAR
VERSION:2.0
PRODID:icalendar-ruby
CALSCALE:GREGORIAN
METHOD:PUBLISH
BEGIN:VEVENT
DTSTAMP:20260421T040528Z
UID:event-158052@stampinup.net
DTSTART;TZID=America/New_York:20220812T183000
DTEND;TZID=America/New_York:20220812T213000
CREATED:20220704T081237
DESCRIPTION:Want to make scrapbook layouts? Come join me for the first Quic
 k &amp\; Cute SCRAPBOOK Class at Tie One On Creativity Bar in Kingston o
 n Friday\, August 12th from 6:30-9:30 pm\n\nCost is $35 ($30.97 + HST) 
 and includes the Framed Occasions* stamp set and all the consumable produc
 ts needed to create 3 12x12 scrapbook layouts (3 designs\, 1 of each de
 sign)!\n\nRegistration for the class ends on August 1st to allow for orde
 ring\, and pre-paid registration is required to hold your spot. Register o
 nline at https://stampandcreatewithlisa.net/products/copy-of-august-quick
 -cute-card-class-at-tie-one-on-creativity-bar\n\nSpace is limited\, COVID
  requirements follow the emergency order for Ontario.\n\nPlease do not b
 ring outside food or drink\, food and drink are available for purchase fro
 m Tie One On Creativity Bar (1329 Gardiners Rd. Suite 109 Kingston\, ON\, 
 across from the Invista Centre)--make it the ultimate night out and grab a
  few friends for dinner &amp\; cards! Parking is free. We will be located 
 on the second level of the building\, and unfortunately\, it is not fully 
 accessible. Unable to make the class? This class will also be available in
  a to-go format!\n\n*Although stamp sets are rarely back-ordered\, in the 
 event that the specified stamp set is unavailable on July 31st\, another 
 stamp set of equivalent value will be substituted.  In the event of a loc
 kdown\, if the lockdown is announced prior to August 1st (when materials a
 re ordered)\, event fees will be refunded.  If a lockdown is announced be
 tween August 2nd and August 12th (after materials are ordered)\, the cla
 ss will be moved to an online format.  Please note that the same cut-offs
  apply for cancellations of any kind as this class is product-based.\n\n\n
 Please note that a ticket will not be emailed.  The receipt of payment is
  automatically recorded.  If you are planning to attend with a group and 
 want to be seated together\, please let us know!\n\n\nEvent link: https://
 stampinup.net/crm/events/158052
LAST-MODIFIED:20220704T081951
LOCATION:Tie One On Creativity Bar\, 1329 Gardiners Rd. Suite 109 Kingston\
 , ON
ORGANIZER;CN=Lisa Henderson:mailto:lisa.henderson003@gmail.com
SUMMARY:August Quick & Cute Scrapbook Class
URL;VALUE=URI:https://stampinup.net/crm/events/158052
END:VEVENT
END:VCALENDAR
