BEGIN:VCALENDAR
VERSION:2.0
PRODID:icalendar-ruby
CALSCALE:GREGORIAN
METHOD:PUBLISH
BEGIN:VEVENT
DTSTAMP:20260424T173124Z
UID:event-157850@stampinup.net
DTSTART;TZID=America/New_York:20220709T130000
DTEND;TZID=America/New_York:20220709T153000
CREATED:20220702T051106
DESCRIPTION:Join me on Saturday July 9th for a SAB party!  Make 5 cards fe
 aturing the SAB products\n- Hippest Hippos\n- Tree Lot\n- Amazing Phrasin
 g\n- Wonderful World Stamp Set\n- Wonderful World DSP\nCost:\n- $15 with
  no order\n- $ 10 with a $60 net order (earn 1 Level 1 SAB item)\n- FREE w
 ith a $120 net order (earn 2 Level 1 SAB items or 1 Level 2 SAB Item)\nReg
 istration required to reserve your spot\n \n\nEvent link: https://stampin
 up.net/crm/events/157850
LAST-MODIFIED:20220707T092024
LOCATION:My Home
ORGANIZER;CN=Tracie St Louis:mailto:tracie.st-louis@sympatico.ca
SUMMARY:Sale-A-Bration Party
URL;VALUE=URI:https://stampinup.net/crm/events/157850
END:VEVENT
END:VCALENDAR
