BEGIN:VCALENDAR
VERSION:2.0
PRODID:icalendar-ruby
CALSCALE:GREGORIAN
METHOD:PUBLISH
BEGIN:VEVENT
DTSTAMP:20260425T183901Z
UID:event-157554@stampinup.net
DTSTART;TZID=America/New_York:20220823T173000
DTEND;TZID=America/New_York:20220823T203000
CREATED:20220630T062423
DESCRIPTION:Private Event\n\nEvent link: https://stampinup.net/crm/events/1
 57554
LAST-MODIFIED:20220630T062423
LOCATION:Pam's House\, Beregen\, NY
ORGANIZER;CN=Mary Rodgers:mailto:maryrodgers_su@yahoo.com
SUMMARY:Bergen Stamping Group
URL;VALUE=URI:https://stampinup.net/crm/events/157554
END:VEVENT
END:VCALENDAR
