BEGIN:VCALENDAR
VERSION:2.0
PRODID:icalendar-ruby
CALSCALE:GREGORIAN
METHOD:PUBLISH
BEGIN:VEVENT
DTSTAMP:20260421T125103Z
UID:event-15701@stampinup.net
DTSTART;TZID=America/New_York:20230703T170000
DTEND;TZID=America/New_York:20230703T180000
CREATED:20191002T204120
DESCRIPTION:Join me for Creative Inspiration\, demonstrations\, stamping ti
 ps &amp\; techniques\, &amp\; more at Stampin' Peace with Mary Knabe on Fa
 cebook.\n\n \n\nEvent link: https://stampinup.net/crm/events/15701
LAST-MODIFIED:20230702T062352
LOCATION:Facebook - Stampin' Peace with Mary Knabe
ORGANIZER;CN=Mary Knabe:mailto:mknabe2008@gmail.com
SUMMARY:Facebook Live
URL;VALUE=URI:https://stampinup.net/crm/events/15701
RRULE:FREQ=WEEKLY;UNTIL=20231231T230000Z;BYDAY=MO
END:VEVENT
END:VCALENDAR
